BEGIN:VCALENDAR
VERSION:2.0
PRODID:-//Images Arizona - ECPv6.15.20//NONSGML v1.0//EN
CALSCALE:GREGORIAN
METHOD:PUBLISH
X-ORIGINAL-URL:https://imagesarizona.com
X-WR-CALDESC:Events for Images Arizona
REFRESH-INTERVAL;VALUE=DURATION:PT1H
X-Robots-Tag:noindex
X-PUBLISHED-TTL:PT1H
BEGIN:VTIMEZONE
TZID:America/Phoenix
BEGIN:STANDARD
TZOFFSETFROM:-0700
TZOFFSETTO:-0700
TZNAME:MST
DTSTART:20170101T000000
END:STANDARD
END:VTIMEZONE
BEGIN:VEVENT
DTSTART;VALUE=DATE:20181001
DTEND;VALUE=DATE:20181101
DTSTAMP:20260424T200348
CREATED:20180926T201129Z
LAST-MODIFIED:20180926T201129Z
UID:12845-1538352000-1541030399@imagesarizona.com
SUMMARY:Drive Out Domestic Violence
DESCRIPTION:Reserve tickets to attend the 8th Annual Driving Out Domestic Violence Golf Tournament and Gala November 2–3. Celebrities from MLB\, NFL\, NBA and PGA will hold a golf tournament and all-star evening to raise money for Chrysalis and victims of domestic violence. Golf tournament Nov. 2 is $1\,000/individual players\, includes two gala tickets; $4\,000/foursome\, includes eight gala tickets. Talking Stick Golf Club\, 9998 E. Indian Bend Rd.\, Scottsdale. Nov. 3 gala tickets $500/couple or $275/guest. Gala held at Ross Aviation\, 14600 N. Airport Dr.\, Scottsdale. 7 p.m. 602-955-9059
URL:https://imagesarizona.com/event/drive-out-domestic-violence/
END:VEVENT
BEGIN:VEVENT
DTSTART;VALUE=DATE:20181001
DTEND;VALUE=DATE:20181101
DTSTAMP:20260424T200348
CREATED:20180926T201211Z
LAST-MODIFIED:20180926T201211Z
UID:12847-1538352000-1541030399@imagesarizona.com
SUMMARY:Walk with Wildlife Tours
DESCRIPTION:If you have not yet been to Southwest Wildlife\, or if it’s been a while\, now is a magnificent time to go! Guided tours are held Tuesdays\, Fridays and Saturdays to allow you to get an up-close view of permanent sanctuary animals and hear their compelling stories. RSVP required. $25/adults\, $15/children 3-12. 27026 N. 156th St.\, Scottsdale. 480-471-3621
URL:https://imagesarizona.com/event/walk-with-wildlife-tours/
END:VEVENT
BEGIN:VEVENT
DTSTART;VALUE=DATE:20181001
DTEND;VALUE=DATE:20181101
DTSTAMP:20260424T200348
CREATED:20180926T211510Z
LAST-MODIFIED:20180926T211510Z
UID:12887-1538352000-1541030399@imagesarizona.com
SUMMARY:Pumpkin Fest and Corn Maze
DESCRIPTION:Enjoy over 40 farm-inspired rides and activities\, games\, animals\, activities\, pumpkin patch\, shows and more! Every Friday\, Saturday\, Sunday and Columbus Day\, Sept. 28–Oct. 28. Fridays are for barn dances\, dinner at the barn (must RSVP)\, Magic at Night\, and fire dancers. Saturdays\, enjoy karaoke\, Magic at Night and fire dancers. See website for times and admission. 12907 E. SR 169\, Dewey.
URL:https://imagesarizona.com/event/pumpkin-fest-and-corn-maze/
END:VEVENT
BEGIN:VEVENT
DTSTART;TZID=America/Phoenix:20181011T080000
DTEND;TZID=America/Phoenix:20181027T170000
DTSTAMP:20260424T200348
CREATED:20180926T194740Z
LAST-MODIFIED:20180926T194740Z
UID:12807-1539244800-1540659600@imagesarizona.com
SUMMARY:Ain’t Misbehavin’
DESCRIPTION:Featuring music from the Harlem Renaissance era of the 1920s and ’30s\, Ain’t Misbehavin’ stars five triple-threat actors who strut\, strum and sing the songs made famous by Thomas “Fats” Waller. $37–45. Scottsdale Center for the Performing Arts\, 7380 E. Second St.\, Scottsdale\, Stage 2. See website for showtimes. 480-499-8587.
URL:https://imagesarizona.com/event/aint-misbehavin/
END:VEVENT
BEGIN:VEVENT
DTSTART;VALUE=DATE:20181019
DTEND;VALUE=DATE:20181029
DTSTAMP:20260424T200348
CREATED:20180926T195604Z
LAST-MODIFIED:20180926T195604Z
UID:12825-1539907200-1540771199@imagesarizona.com
SUMMARY:Enchanted Pumpkin Garden
DESCRIPTION:Halloween invades the Town of Carefree in the form of whimsical pumpkin carvings from master sculptor Ray Villafane and the Villafane Studios team for a fourth year. Free. Carefree Desert Gardens\, 101 Easy St.\, Carefree. See website for times and special events. 480-488-3686;
URL:https://imagesarizona.com/event/enchanted-pumpkin-garden/
END:VEVENT
BEGIN:VEVENT
DTSTART;TZID=America/Phoenix:20181025T100000
DTEND;TZID=America/Phoenix:20181025T140000
DTSTAMP:20260424T200348
CREATED:20180926T211116Z
LAST-MODIFIED:20180926T211116Z
UID:12879-1540461600-1540476000@imagesarizona.com
SUMMARY:Healthy Aging Expo
DESCRIPTION:Connect with health and wellness experts in the areas of nutrition\, education\, exercise\, medical information\, lifestyle\, financial services and other topics of interest. Free. Desert Foothills Library\, 38443 N. Schoolhouse Rd.\, Cave Creek. 10 a.m.–2 p.m. 480-488-1105
URL:https://imagesarizona.com/event/healthy-aging-expo/
END:VEVENT
BEGIN:VEVENT
DTSTART;TZID=America/Phoenix:20181025T183000
DTEND;TZID=America/Phoenix:20181025T203000
DTSTAMP:20260424T200348
CREATED:20180926T195736Z
LAST-MODIFIED:20180926T195736Z
UID:12829-1540492200-1540499400@imagesarizona.com
SUMMARY:Winemaker Dinner
DESCRIPTION:Hyatt Regency Scottsdale Resort & Spa at Gainey Ranch presents Cakebread Cellars for its monthly Winemaker Dinner. Begin with an appetizer and wine reception\, followed by an epicurean experience of perfectly paired wines and a memorable four-course dinner. RSVP required. $95–105+ per person. 7500 E. Doubletree Ranch Rd\, Scottsdale. 6:30 p.m. 480-444-1234 ext. 8640
URL:https://imagesarizona.com/event/winemaker-dinner-2/
END:VEVENT
BEGIN:VEVENT
DTSTART;TZID=America/Phoenix:20181025T200000
DTEND;TZID=America/Phoenix:20181026T020000
DTSTAMP:20260424T200348
CREATED:20180926T195945Z
LAST-MODIFIED:20180926T195945Z
UID:12831-1540497600-1540519200@imagesarizona.com
SUMMARY:Chocolate and Art Show
DESCRIPTION:Indulge yourself in some of Phoenix’s finest up-and-coming artists\, photographers and creators! There is something for everybody\, including live music\, face-painting and free chocolate! $15 online; $20 at the door. Unexpected\, 734 W. Polk St.\, Phoenix. 8 p.m.–2 a.m.
URL:https://imagesarizona.com/event/chocolate-and-art-show/
END:VEVENT
END:VCALENDAR